BEGIN:VCALENDAR
VERSION:2.0
PRODID:-//Capital Champlain - ECPv6.15.13//NONSGML v1.0//EN
CALSCALE:GREGORIAN
METHOD:PUBLISH
X-WR-CALNAME:Capital Champlain
X-ORIGINAL-URL:https://capitalchamplain.com
X-WR-CALDESC:Events for Capital Champlain
REFRESH-INTERVAL;VALUE=DURATION:PT1H
X-Robots-Tag:noindex
X-PUBLISHED-TTL:PT1H
BEGIN:VTIMEZONE
TZID:America/New_York
BEGIN:DAYLIGHT
TZOFFSETFROM:-0500
TZOFFSETTO:-0400
TZNAME:EDT
DTSTART:20220313T070000
END:DAYLIGHT
BEGIN:STANDARD
TZOFFSETFROM:-0400
TZOFFSETTO:-0500
TZNAME:EST
DTSTART:20221106T060000
END:STANDARD
BEGIN:DAYLIGHT
TZOFFSETFROM:-0500
TZOFFSETTO:-0400
TZNAME:EDT
DTSTART:20230312T070000
END:DAYLIGHT
BEGIN:STANDARD
TZOFFSETFROM:-0400
TZOFFSETTO:-0500
TZNAME:EST
DTSTART:20231105T060000
END:STANDARD
BEGIN:DAYLIGHT
TZOFFSETFROM:-0500
TZOFFSETTO:-0400
TZNAME:EDT
DTSTART:20240310T070000
END:DAYLIGHT
BEGIN:STANDARD
TZOFFSETFROM:-0400
TZOFFSETTO:-0500
TZNAME:EST
DTSTART:20241103T060000
END:STANDARD
BEGIN:DAYLIGHT
TZOFFSETFROM:-0500
TZOFFSETTO:-0400
TZNAME:EDT
DTSTART:20250309T070000
END:DAYLIGHT
BEGIN:STANDARD
TZOFFSETFROM:-0400
TZOFFSETTO:-0500
TZNAME:EST
DTSTART:20251102T060000
END:STANDARD
END:VTIMEZONE
BEGIN:VEVENT
DTSTART;TZID=America/New_York:20240804T100000
DTEND;TZID=America/New_York:20240804T170000
DTSTAMP:20260422T105511
CREATED:20240626T130358Z
LAST-MODIFIED:20240626T130400Z
UID:3905-1722765600-1722790800@capitalchamplain.com
SUMMARY:Motocross Photography
DESCRIPTION:Who is ready to practice motorsports photography? We are planning another outing to \n\n\n\nClaverack MX for capturing some high-flying motocross action. \n\n\n\nClaverack MX is a family-friendly motocross track located at 131 Tischauser Road\, Claverack\, NY. Racing starts at 10 a.m. Rob Near\, who has photographed at this track many times\, will be our guide\, helping you with the best exposure settings. There are a great many good locations to shoot from\, resulting in images like the ones you see on this posting. Racers range from peewees all the way up through senior racers. \n\n\n\nDuring this outing\, we will focus on perfecting panning skills and capturing the exhilarating moments of motorcycles in mid-air. For those working on earning merits through MIR\, this is the perfect opportunity to capture reportage-type images. \n\n\n\nDirection from Albany Area: \n\n\n\nFROM ALBANY: Take the NYS I-87 SOUTH to Exit 21A\, take I-912M East to exit B1\, get on I-90 West to exit 12 US-9 South. At the traffic circle\, take the 2nd exit to 9H-S.  Make a left onto NY-66 North\, then right onto Gahbauer Rd\, then right onto Tishauser Rd. The track is on the left.
URL:https://capitalchamplain.com/event/motocross-photography/
LOCATION:New York
CATEGORIES:Field Trip
ATTACH;FMTTYPE=image/jpeg:https://capitalchamplain.com/wp-content/uploads/2024/06/AugOM1A0053-ORF_DxO-PR-Edit-1.jpg
END:VEVENT
BEGIN:VEVENT
DTSTART;TZID=America/New_York:20240713T100000
DTEND;TZID=America/New_York:20240713T160000
DTSTAMP:20260422T105511
CREATED:20240626T125036Z
LAST-MODIFIED:20240626T125617Z
UID:3901-1720864800-1720886400@capitalchamplain.com
SUMMARY:Rhinebeck Aerodrome Photography
DESCRIPTION:We were rained out of the outing to the Rhinebeck Aerodrome last year\, so we will try to get there this year. We’re planning on going to the Saturday\, July 13th airshow\, but if there is rain\, we will move it to Sunday\, July 14th. \n\n\n\nThe Rhinebeck Aerodrome Living Museum features pre-WWI airplanes up through the golden age of barnstorming airplanes of the 20-30’s. The Saturday “History of Flight” program highlights the Pioneer era before WWI\, a WWI Show teaser\, and the Golden Age of Aviation in the ’20s and ’30s. \n\n\n\nRob will share tips\, including the best shutter speeds for shooting airplanes and panning to convey a sense of motion. \n\n\n\nThe Museum opens at 10 am\, and the airshow starts at 2 pm. It is located at Old Rhinebeck Aerodrome\, 9 Norton Road\, Red Hook\, NY. \n\n\n\nTickets are available at the gate on the day of the show; \n\n\n\n            Adult (Age 18-64)-$35 \n\n\n\n            Senior (Age 65+)-$26 \n\n\n\n            Active/Retired Military with ID–$26 \n\n\n\nThis should be a fun day and we are looking forward to seeing many of you there.
URL:https://capitalchamplain.com/event/rhinebeck-aerodrome-photography/
LOCATION:New York
CATEGORIES:Field Trip
ATTACH;FMTTYPE=image/jpeg:https://capitalchamplain.com/wp-content/uploads/2024/06/Oct_M307192-ORF_DxO_DeepPRIME-Edit.jpg
END:VEVENT
BEGIN:VEVENT
DTSTART;TZID=America/New_York:20240617T173000
DTEND;TZID=America/New_York:20240617T210000
DTSTAMP:20260422T105511
CREATED:20240609T225420Z
LAST-MODIFIED:20240611T134453Z
UID:3831-1718645400-1718658000@capitalchamplain.com
SUMMARY:Lighting and Posing 101
DESCRIPTION:Please join us on Monday\, June 17th\, at 5:30 p.m. for an evening of food\, fun\, and learning. Capital Region members Ruth Wedge and Jim McLaughlin will provide an informative program on the basics of lighting and posing. \n\n\n\n\n\n\n\nAbout Ruth Wedge\n\n\n\nRuth has owned and operated a photography studio for twenty years in the Averill Park and West Sand Lake area. While having photographed many things\, her studio focuses primarily on children and families. \n\n\n\nAbout Jim McLaughlin\n\n\n\n\n\n\n\nJim has owned and operated a photography studio for forty years in the Queensbury and Lake George area. Jim has earned a living shooting weddings\, schools\, families\, art\, and whatever pays the bills. \n\n\n\nLighting and Posing 101 Program\n\n\n\nRuth agreed to bring her newfound treasures\, while Jim offered to bring his lighting equipment and work his magic using Nan Lights. If you’d like to learn some basic Portrait Lighting and posing\, you won’t want to miss our next meeting. This is a hands-on learning experience that is not to be missed. \n\n\n\nBRING YOUR CAMERA AND PLAN ON HAVING SOME FUN! \n\n\n\n\n\n\n\nJune Creative Photography Exercise\n\n\n\nThe theme for June’s Creative Exercise is “Lines.” \n\n\n\nSend up to 2 images to Jim McLaughlin by Saturday\, June 15th at Jim@mclaughlinphoto.com. \n\n\n\nSized 4000px on the longest side\, sRGB Color\, the file name is the image title. \n\n\n\nWe hope to inspire you to get creative and share your work. The feedback we receive makes us better photographers. \n\n\n\nProgram Itinerary\n\n\n\nMix and Mingle 5:30 \n\n\n\nBusiness Meeting 6:00 \n\n\n\nDinner 6:30 \n\n\n\nImage review 7:00 \n\n\n\nProgram 7:30 \n\n\n\nRSVP Below and Pay at the door \n\n\n\nMember Price $25.00; Non-Member Price $45.00 (includes dinner.)
URL:https://capitalchamplain.com/event/lighting-and-posing-101/
LOCATION:Moscatiellos\, 99 North Greenbush Rd.\, Troy\, NY\, 12180\, United States
CATEGORIES:CC Monthly Meeting
ATTACH;FMTTYPE=image/jpeg:https://capitalchamplain.com/wp-content/uploads/2024/06/DSC3079-1246.jpeg
END:VEVENT
BEGIN:VEVENT
DTSTART;TZID=America/New_York:20240520T173000
DTEND;TZID=America/New_York:20240520T210000
DTSTAMP:20260422T105511
CREATED:20240426T195540Z
LAST-MODIFIED:20240511T234842Z
UID:3798-1716226200-1716238800@capitalchamplain.com
SUMMARY:Just Add Water And Imagination
DESCRIPTION:Presentation by Michelle Pasquariello – Details coming soon!
URL:https://capitalchamplain.com/event/just-add-water-and-imagination/
LOCATION:Moscatiellos\, 99 North Greenbush Rd.\, Troy\, NY\, 12180\, United States
CATEGORIES:CC Event
ATTACH;FMTTYPE=image/jpeg:https://capitalchamplain.com/wp-content/uploads/2024/04/JustAddWater-copy.jpg
END:VEVENT
BEGIN:VEVENT
DTSTART;TZID=America/New_York:20240415T173000
DTEND;TZID=America/New_York:20240415T210000
DTSTAMP:20260422T105511
CREATED:20240413T155822Z
LAST-MODIFIED:20240610T022126Z
UID:3788-1713202200-1713214800@capitalchamplain.com
SUMMARY:Senior Sessions From Start To Finish
DESCRIPTION:Master Photographer Angela Navarette will walk us through the process of creating award-winning images that reflect the personality of her clients. \n\n\n\nAbout Angela Navarette\n\n\n\n\nAngela is a nationally accredited by the Professional Photographers of America as both a Certified Professional Photographer and a Master of Photography.\n\n\n\nShe shoots Nikon; rep for my favorite Godox lighting gear by MoLight; admin one of the largest photography groups on social media; and stay active in the photography community to continue learning.\n\n\n\nAngela is both a published writer and a published photographer.\n\n\n\nBased in Dallas\, Texas\, Angela specializes in professional portraits and high school senior portraits.
URL:https://capitalchamplain.com/event/senior-sessions-from-start-to-finish/
LOCATION:New York
ATTACH;FMTTYPE=image/jpeg:https://capitalchamplain.com/wp-content/uploads/2024/04/AngelaNavarette-copy-2.jpg
END:VEVENT
BEGIN:VEVENT
DTSTART;TZID=America/New_York:20240316T080000
DTEND;TZID=America/New_York:20240316T160000
DTSTAMP:20260422T105511
CREATED:20240212T164004Z
LAST-MODIFIED:20240212T164007Z
UID:3731-1710576000-1710604800@capitalchamplain.com
SUMMARY:STRIDE Great Race
DESCRIPTION:Join Sandra Foyt for a fun-filled day of event photography for a good cause.  \n\n\n\nSTRIDE’s Great Race\, an entry-level Adaptive Snowsport Race\, is a competitive event for ski and snowboard racers with disabilities from around the Northeast. An inspiring day of individual victories and monumental successes realized on the race course at Jiminy Peak Mountain Resort in Hancock\, MA\, the event is open to all adaptive skiers of any age\, skill level\, or disability.
URL:https://capitalchamplain.com/event/stride-great-race/
LOCATION:Jiminy Peak Mountain Resort\, 37 Corey Rd Hancock\, MA\, Massachusetts\, 01237\, United States
CATEGORIES:Field Trip
ATTACH;FMTTYPE=image/webp:https://capitalchamplain.com/wp-content/uploads/2024/02/Great-Race.webp
ORGANIZER;CN="Sandra Foyt":MAILTO:sandrafoyt@gmail.com
END:VEVENT
BEGIN:VEVENT
DTSTART;TZID=America/New_York:20240304T180000
DTEND;TZID=America/New_York:20240304T193000
DTSTAMP:20260422T105511
CREATED:20240301T184330Z
LAST-MODIFIED:20240304T195650Z
UID:3771-1709575200-1709580600@capitalchamplain.com
SUMMARY:March Board Meeting
DESCRIPTION:Content is protected.
URL:https://capitalchamplain.com/event/march-board-meeting/
LOCATION:New York
CATEGORIES:CC BOD Meeting
END:VEVENT
BEGIN:VEVENT
DTSTART;TZID=America/New_York:20240226T080000
DTEND;TZID=America/New_York:20240226T170000
DTSTAMP:20260422T105511
CREATED:20240212T162120Z
LAST-MODIFIED:20240212T164140Z
UID:3720-1708934400-1708966800@capitalchamplain.com
SUMMARY:STRIDE 100 K Vertical Challenge
DESCRIPTION:Join Sandra Foyt at Jiminy Peak Ski Mountain Resort in Hancock MA for a day of fun event photography for a good cause. Ski\, if you can\, and/or join in the festivities at the base of the mountain.
URL:https://capitalchamplain.com/event/stride-100-k-vertical-challenge/
LOCATION:Jiminy Peak Mountain Resort\, 37 Corey Rd Hancock\, MA\, Massachusetts\, 01237\, United States
CATEGORIES:Field Trip
ATTACH;FMTTYPE=image/jpeg:https://capitalchamplain.com/wp-content/uploads/2024/02/Stride.jpeg
ORGANIZER;CN="Sandra Foyt":MAILTO:sandrafoyt@gmail.com
END:VEVENT
BEGIN:VEVENT
DTSTART;TZID=America/New_York:20240219T180000
DTEND;TZID=America/New_York:20240219T210000
DTSTAMP:20260422T105511
CREATED:20240212T162653Z
LAST-MODIFIED:20240212T162655Z
UID:3726-1708365600-1708376400@capitalchamplain.com
SUMMARY:Plan a Machias Seal Island Puffin Shoot
DESCRIPTION:Rob Near will present a program on preparing for and what to expect on this adventure to Machias Seal Island to photograph Puffins.  More details to follow…
URL:https://capitalchamplain.com/event/plan-a-machias-seal-island-puffin-shoot/
LOCATION:New York
CATEGORIES:CC Monthly Meeting
ATTACH;FMTTYPE=image/jpeg:https://capitalchamplain.com/wp-content/uploads/2023/09/Look-of-Guilt.jpg
END:VEVENT
BEGIN:VEVENT
DTSTART;TZID=America/New_York:20240205T183000
DTEND;TZID=America/New_York:20240205T200000
DTSTAMP:20260422T105511
CREATED:20240205T190621Z
LAST-MODIFIED:20240301T182950Z
UID:3697-1707157800-1707163200@capitalchamplain.com
SUMMARY:February Board Meeting
DESCRIPTION:Content is protected.
URL:https://capitalchamplain.com/event/february-board-meeting/
LOCATION:New York
CATEGORIES:CC BOD Meeting
END:VEVENT
BEGIN:VEVENT
DTSTART;TZID=America/New_York:20240115T180000
DTEND;TZID=America/New_York:20240115T210000
DTSTAMP:20260422T105511
CREATED:20231107T220122Z
LAST-MODIFIED:20231107T220123Z
UID:3579-1705341600-1705352400@capitalchamplain.com
SUMMARY:Preparing for the Eclipse
DESCRIPTION:Carl Heilman will be speaking to us via zoom this month.  Carl will share his knowledge and tips to help you prepare to photograph the eclipse coming in April.  Don’t miss this opportunity to learn more to prepare yourself for this rare opportunity.
URL:https://capitalchamplain.com/event/preparing-for-the-eclipse/
LOCATION:Zoom
ATTACH;FMTTYPE=image/jpeg:https://capitalchamplain.com/wp-content/uploads/2023/11/eclipseposter.jpg
END:VEVENT
BEGIN:VEVENT
DTSTART;TZID=America/New_York:20240108T183000
DTEND;TZID=America/New_York:20240108T200000
DTSTAMP:20260422T105511
CREATED:20240105T231354Z
LAST-MODIFIED:20240108T230824Z
UID:3676-1704738600-1704744000@capitalchamplain.com
SUMMARY:January 2024 BOD Meeting
DESCRIPTION:Content is protected.
URL:https://capitalchamplain.com/event/january-2024-bod-meeting-2/
LOCATION:Zoom
CATEGORIES:CC BOD Meeting
END:VEVENT
BEGIN:VEVENT
DTSTART;TZID=America/New_York:20231218T053000
DTEND;TZID=America/New_York:20231218T210000
DTSTAMP:20260422T105511
CREATED:20230814T224204Z
LAST-MODIFIED:20231206T003302Z
UID:3413-1702877400-1702933200@capitalchamplain.com
SUMMARY:December 2023 Member Holiday Party
DESCRIPTION:We invite you to join us for an evening of food\, fun\, and reflection of another year of memories made with friends of Capital Champlain.   $25.00 to be paid at the door will cover dinner.  We will be ordering off the menu.  Cocktails and beverages will be on your own.  We hope you are able to join us!
URL:https://capitalchamplain.com/event/december-2023-member-holiday-party/
LOCATION:Moscatiellos\, 99 North Greenbush Rd.\, Troy\, NY\, 12180\, United States
CATEGORIES:CC Event
ATTACH;FMTTYPE=image/jpeg:https://capitalchamplain.com/wp-content/uploads/2023/08/DSC_5669-116-scaled.jpg
END:VEVENT
BEGIN:VEVENT
DTSTART;TZID=America/New_York:20231204T183000
DTEND;TZID=America/New_York:20231204T200000
DTSTAMP:20260422T105511
CREATED:20230814T221412Z
LAST-MODIFIED:20231205T185844Z
UID:3409-1701714600-1701720000@capitalchamplain.com
SUMMARY:December 2023 BOD Meeting
DESCRIPTION:Content is protected.
URL:https://capitalchamplain.com/event/december-2023-bod-meeting/
LOCATION:Zoom
CATEGORIES:CC BOD Meeting
END:VEVENT
BEGIN:VEVENT
DTSTART;TZID=America/New_York:20231120T173000
DTEND;TZID=America/New_York:20231120T210000
DTSTAMP:20260422T105511
CREATED:20231021T210013Z
LAST-MODIFIED:20231021T210014Z
UID:3560-1700501400-1700514000@capitalchamplain.com
SUMMARY:Volume Photography - Schools and Sports
DESCRIPTION:Ruth Wedge will present a program on Volume Photography and the GotPhoto platform that has changed the way she photographs her schools and the way parents order their photos. \n\n\n\n\n\n\n\nRuth started photographing schools 7 years ago.   She took the leap and joined the GotPhoto community last year integrating online ordering for her schools.  In one year her sales have more than doubled.  No more pre pay with pre order envelopes.  No more ordering without options.  Now parents get to see the collection of images that were taken of their child.  They can order print packages\, add images to their packages\, add on digital downloads  and much more.  Giving parents access to these photos has also freed up time for Ruth to pursue other schools.  It all starts with a QR code for each child.  Ruth will explain the GotPhoto program and how it works.  If you are interested in learning more about volume photography and the GotPhoto system you will want to attend our November meeting.
URL:https://capitalchamplain.com/event/volume-photography-schools-and-sports/
LOCATION:Moscatiellos\, 99 North Greenbush Rd.\, Troy\, NY\, 12180\, United States
ATTACH;FMTTYPE=image/jpeg:https://capitalchamplain.com/wp-content/uploads/2023/10/School-Program-scaled.jpg
END:VEVENT
BEGIN:VEVENT
DTSTART;TZID=America/New_York:20231106T183000
DTEND;TZID=America/New_York:20231106T200000
DTSTAMP:20260422T105511
CREATED:20230814T220819Z
LAST-MODIFIED:20231109T003236Z
UID:3406-1699295400-1699300800@capitalchamplain.com
SUMMARY:November 2023 BOD Meeting
DESCRIPTION:Content is protected.
URL:https://capitalchamplain.com/event/november-2023-bod-meeting/
LOCATION:Zoom
CATEGORIES:CC BOD Meeting
END:VEVENT
BEGIN:VEVENT
DTSTART;TZID=America/New_York:20231016T173000
DTEND;TZID=America/New_York:20231016T210000
DTSTAMP:20260422T105511
CREATED:20230814T215008Z
LAST-MODIFIED:20231016T145529Z
UID:3397-1697477400-1697490000@capitalchamplain.com
SUMMARY:October 2023 Member Meeting
DESCRIPTION:Intro to Painting in Photoshop with Sherrie Fryxell
URL:https://capitalchamplain.com/event/october-2023-member-meeting-2/
LOCATION:Moscatiellos\, 99 North Greenbush Rd.\, Troy\, NY\, 12180\, United States
ATTACH;FMTTYPE=image/png:https://capitalchamplain.com/wp-content/uploads/2023/08/Intro-to-Painting.png
END:VEVENT
BEGIN:VEVENT
DTSTART;TZID=America/New_York:20231002T183000
DTEND;TZID=America/New_York:20231002T200000
DTSTAMP:20260422T105511
CREATED:20230814T212148Z
LAST-MODIFIED:20231002T235309Z
UID:3395-1696271400-1696276800@capitalchamplain.com
SUMMARY:October 2023 BOD Meeting
DESCRIPTION:Content is protected.
URL:https://capitalchamplain.com/event/october-2023-bod-meeting/
LOCATION:Zoom
CATEGORIES:CC BOD Meeting
END:VEVENT
BEGIN:VEVENT
DTSTART;TZID=America/New_York:20230924T000000
DTEND;TZID=America/New_York:20230924T235959
DTSTAMP:20260422T105511
CREATED:20230611T192804Z
LAST-MODIFIED:20230901T165720Z
UID:3109-1695513600-1695599999@capitalchamplain.com
SUMMARY:Landscape Photography with Carl Heilman II
DESCRIPTION:Registration is now open for Photographing Landscapes In The Adirondacks!!!\n\n\n\nPPA MEMBERS:  \n\n\n\n. \n\n\n\nNON-PPA MEMBERS:  \n\n\n\n\n\n\n\nFollow the link to learn more about Carl Heilman II and the Adirondack Fall Foliage Workshop.
URL:https://capitalchamplain.com/event/landscape-photography-with-carl-heilman/
LOCATION:New York
CATEGORIES:CC Event
END:VEVENT
BEGIN:VEVENT
DTSTART;TZID=America/New_York:20230918T173000
DTEND;TZID=America/New_York:20230918T210000
DTSTAMP:20260422T105511
CREATED:20230721T234820Z
LAST-MODIFIED:20230826T003755Z
UID:3290-1695058200-1695070800@capitalchamplain.com
SUMMARY:September 2023 Member Meeting
DESCRIPTION:
URL:https://capitalchamplain.com/event/member-meeting/
LOCATION:Moscatiellos\, 99 North Greenbush Rd.\, Troy\, NY\, 12180\, United States
ATTACH;FMTTYPE=image/jpeg:https://capitalchamplain.com/wp-content/uploads/2023/07/8742-Int.jpg
END:VEVENT
BEGIN:VEVENT
DTSTART;TZID=America/New_York:20230916T000000
DTEND;TZID=America/New_York:20230916T235959
DTSTAMP:20260422T105511
CREATED:20230721T233938Z
LAST-MODIFIED:20230721T233938Z
UID:3286-1694822400-1694908799@capitalchamplain.com
SUMMARY:September 2023  Creative Exercise
DESCRIPTION:“GUILTY”  is the theme/prompt for September’s creative exercise.   If you would like to share your creativity with your peers\, enter your work to be shown at our meeting.  Join the discussion and have some fun!  We can’t wait to see what you create!
URL:https://capitalchamplain.com/event/september-2023-creative-exercise/
LOCATION:Moscatiellos\, 99 North Greenbush Rd.\, Troy\, NY\, 12180\, United States
ATTACH;FMTTYPE=image/jpeg:https://capitalchamplain.com/wp-content/uploads/2023/07/Guilty-scaled.jpg
END:VEVENT
BEGIN:VEVENT
DTSTART;TZID=America/New_York:20230911T183000
DTEND;TZID=America/New_York:20230911T203000
DTSTAMP:20260422T105511
CREATED:20230814T210735Z
LAST-MODIFIED:20230911T211018Z
UID:2719-1694457000-1694464200@capitalchamplain.com
SUMMARY:Capital Champlain SEPT 2023 Board Meeting
DESCRIPTION:Content is protected.
URL:https://capitalchamplain.com/event/capital-champlain-sept-2023-board-meeting/
LOCATION:Zoom
CATEGORIES:aCCBlog,CC BOD Meeting
END:VEVENT
BEGIN:VEVENT
DTSTART;TZID=America/New_York:20230806T080000
DTEND;TZID=America/New_York:20230806T120000
DTSTAMP:20260422T105511
CREATED:20230617T173034Z
LAST-MODIFIED:20230804T195555Z
UID:3121-1691308800-1691323200@capitalchamplain.com
SUMMARY:"Capturing the Action" of Motocross Racing
DESCRIPTION:We hope you’ll join us!!
URL:https://capitalchamplain.com/event/capturing-the-action-of-motocross-racing/
LOCATION:Claverack MX\, 131 Tischauser Road\, Claverack\, NY\, United States
CATEGORIES:CC Event
ATTACH;FMTTYPE=image/jpeg:https://capitalchamplain.com/wp-content/uploads/2023/06/364808842_7067938989891914_5393674478236461405_n.jpg
END:VEVENT
BEGIN:VEVENT
DTSTART;TZID=America/New_York:20230625T100000
DTEND;TZID=America/New_York:20230625T170000
DTSTAMP:20260422T105511
CREATED:20230301T130840Z
LAST-MODIFIED:20230308T181357Z
UID:2908-1687687200-1687712400@capitalchamplain.com
SUMMARY:June 25th Photo Op at The Rhinebeck Aerodrome
DESCRIPTION:Rhinebeck Aerodrome – Sunday June 25th: The Sunday Show is our WWI dog fight spectacular with a hero\, a heroine (Cheer!)\, the villainous Black Baron of Rhinebeck\, scenery\, pyrotechnics and a WWI tank. The supporting cast includes many antique automobiles. The stars are the historic airplanes including our 1909 Bleriot\, the oldest regularly flying airplane in the Western Hemisphere; the Fokker DR-I Triplane\, the most famous fighter of WWI; and a precise replica of the Spirit of St. Louis\, which was the first aircraft to fly NY to Paris in 1927. While aircraft rotate on and off the flightline\, usually 15-20 are flyable for our shows.      (https://oldrhinebeck.org/)\n\nAdult (Age 18-64)-–$28\nSenior (Age 65+)–$21
URL:https://capitalchamplain.com/event/photo-op-at-the-rhinebeck-aerodrome/
LOCATION:Rhinebeck Aerodrome\, 9 Norton Rd.\, Red Hook\, NY\, 12571\, United States
CATEGORIES:CC Event
ATTACH;FMTTYPE=image/png:https://capitalchamplain.com/wp-content/uploads/2023/03/Screen-Shot-2023-03-07-at-6.23.47-PM.png
END:VEVENT
BEGIN:VEVENT
DTSTART;TZID=America/New_York:20230619T173000
DTEND;TZID=America/New_York:20230619T210000
DTSTAMP:20260422T105511
CREATED:20230602T182047Z
LAST-MODIFIED:20230602T182047Z
UID:3074-1687195800-1687208400@capitalchamplain.com
SUMMARY:PPA\, Merits and Degrees
DESCRIPTION:
URL:https://capitalchamplain.com/event/ppa-merits-and-degrees/
LOCATION:Moscatiellos\, 99 North Greenbush Rd.\, Troy\, NY\, 12180\, United States
END:VEVENT
BEGIN:VEVENT
DTSTART;TZID=America/New_York:20230605T183000
DTEND;TZID=America/New_York:20230605T200000
DTSTAMP:20260422T105511
CREATED:20230530T225604Z
LAST-MODIFIED:20230605T185451Z
UID:3060-1685989800-1685995200@capitalchamplain.com
SUMMARY:June Board Meeting
DESCRIPTION:Content is protected.
URL:https://capitalchamplain.com/event/june-board-meeting/
LOCATION:Zoom
CATEGORIES:CC BOD Meeting
END:VEVENT
BEGIN:VEVENT
DTSTART;TZID=America/New_York:20230602T080000
DTEND;TZID=America/New_York:20230602T170000
DTSTAMP:20260422T105511
CREATED:20230602T180329Z
LAST-MODIFIED:20230602T180329Z
UID:3071-1685692800-1685725200@capitalchamplain.com
SUMMARY:Creative Exercise winner for "FENCES"
DESCRIPTION:
URL:https://capitalchamplain.com/event/creative-exercise-winner-for-fences/
LOCATION:New York
CATEGORIES:Members Choice Winner
END:VEVENT
BEGIN:VEVENT
DTSTART;VALUE=DATE:20230521
DTEND;VALUE=DATE:20230522
DTSTAMP:20260422T105511
CREATED:20230302T171048Z
LAST-MODIFIED:20230309T222052Z
UID:2913-1684627200-1684713599@capitalchamplain.com
SUMMARY:Field Trip to Bronx Zoo
DESCRIPTION:Bronx Zoo – Sunday May 21th: Zoo open from 10am to 5:30pm\nDetails TBD on meet up location and carpooling.
URL:https://capitalchamplain.com/event/field-trip-to-bronx-zoo/
LOCATION:Bronx Zoo\, 2300 Southern Blvd.\, The Bronx\, NY\, 10460\, United States
CATEGORIES:CC Event
ATTACH;FMTTYPE=image/png:https://capitalchamplain.com/wp-content/uploads/2023/03/Screen-Shot-2023-03-07-at-6.58.13-PM.png
END:VEVENT
BEGIN:VEVENT
DTSTART;TZID=America/New_York:20230515T173000
DTEND;TZID=America/New_York:20230515T210000
DTSTAMP:20260422T105511
CREATED:20230304T024950Z
LAST-MODIFIED:20230421T154318Z
UID:2790-1684171800-1684184400@capitalchamplain.com
SUMMARY:May Member Meeting- Editing with Lightroom
DESCRIPTION:Live Event: Pay at Door \nWith Speaker: Rob Near \nPlease RSVP Below \n \n 
URL:https://capitalchamplain.com/event/may-15-2023-member-meeting-speaker-rob-near/
LOCATION:Moscatiellos\, 99 North Greenbush Rd.\, Troy\, NY\, 12180\, United States
CATEGORIES:CC Monthly Meeting
ATTACH;FMTTYPE=image/jpeg:https://capitalchamplain.com/wp-content/uploads/2022/04/EJF-Black-CC-Logo-450-e1651784627734.jpg
END:VEVENT
END:VCALENDAR